BEGIN:VCALENDAR
VERSION:2.0
PRODID:-//Shooting range Gaj - ECPv6.0.8//NONSGML v1.0//EN
CALSCALE:GREGORIAN
METHOD:PUBLISH
X-WR-CALNAME:Shooting range Gaj
X-ORIGINAL-URL:https://shootingrange-gaj.eu
X-WR-CALDESC:Events for Shooting range Gaj
REFRESH-INTERVAL;VALUE=DURATION:PT1H
X-Robots-Tag:noindex
X-PUBLISHED-TTL:PT1H
BEGIN:VTIMEZONE
TZID:UTC
BEGIN:STANDARD
TZOFFSETFROM:+0000
TZOFFSETTO:+0000
TZNAME:UTC
DTSTART:20170101T000000
END:STANDARD
END:VTIMEZONE
BEGIN:VEVENT
DTSTART;VALUE=DATE:20220508
DTEND;VALUE=DATE:20220509
DTSTAMP:20260425T133415
CREATED:20220407T174735Z
LAST-MODIFIED:20220407T181214Z
UID:549-1651968000-1652054399@shootingrange-gaj.eu
SUMMARY:Izbirna tekma za ekipo LZS v kombinacijskem streljanju
DESCRIPTION:
URL:https://shootingrange-gaj.eu/event/izbirna-tekma-za-ekipo-lzs-v-kombinacijskem-streljanju-2/
LOCATION:Shooting range Gaj\, Travniška ulica 25\, Pragersko\, Slovenska Bistrica\, 2331\, Slovenia
END:VEVENT
BEGIN:VEVENT
DTSTART;VALUE=DATE:20220424
DTEND;VALUE=DATE:20220425
DTSTAMP:20260425T133415
CREATED:20220407T174645Z
LAST-MODIFIED:20220407T181156Z
UID:547-1650758400-1650844799@shootingrange-gaj.eu
SUMMARY:Izbirna tekma za ekipo LZS v kombinacijskem streljanju
DESCRIPTION:
URL:https://shootingrange-gaj.eu/event/izbirna-tekma-za-ekipo-lzs-v-kombinacijskem-streljanju/
LOCATION:Shooting range Gaj\, Travniška ulica 25\, Pragersko\, Slovenska Bistrica\, 2331\, Slovenia
END:VEVENT
BEGIN:VEVENT
DTSTART;VALUE=DATE:20220417
DTEND;VALUE=DATE:20220418
DTSTAMP:20260425T133415
CREATED:20220407T175501Z
LAST-MODIFIED:20220407T181145Z
UID:557-1650153600-1650239999@shootingrange-gaj.eu
SUMMARY:LIGA UNIVERSAL TRAP 2022
DESCRIPTION:TARGETS/COMPETITION: 100 \nREGISTRATION FEE/COMPETITION: 50 EUR \nSTART OF THE COMPETITION: 9:30
URL:https://shootingrange-gaj.eu/event/liga-universal-trap-2022/
LOCATION:Shooting range Gaj\, Travniška ulica 25\, Pragersko\, Slovenska Bistrica\, 2331\, Slovenia
END:VEVENT
BEGIN:VEVENT
DTSTART;VALUE=DATE:20180831
DTEND;VALUE=DATE:20180903
DTSTAMP:20260425T133415
CREATED:20180517T162737Z
LAST-MODIFIED:20220407T181134Z
UID:250-1535673600-1535932799@shootingrange-gaj.eu
SUMMARY:GRAND PRIX OF SLOVENIA COMBINED GAME SHOOTING
DESCRIPTION:
URL:https://shootingrange-gaj.eu/event/grand-prix-slovenia-combined-game-shooting/
LOCATION:Shooting range Gaj\, Travniška ulica 25\, Pragersko\, Slovenska Bistrica\, 2331\, Slovenia
END:VEVENT
BEGIN:VEVENT
DTSTART;VALUE=DATE:20180803
DTEND;VALUE=DATE:20180806
DTSTAMP:20260425T133415
CREATED:20180517T162621Z
LAST-MODIFIED:20220407T181122Z
UID:247-1533254400-1533513599@shootingrange-gaj.eu
SUMMARY:GRAND PRIX OF SLOVENIA COMPAK SPORTING
DESCRIPTION:
URL:https://shootingrange-gaj.eu/event/grand-prix-slovenia-compak-sporting/
LOCATION:Shooting range Gaj\, Travniška ulica 25\, Pragersko\, Slovenska Bistrica\, 2331\, Slovenia
ORGANIZER;CN="Shooting%20range%20Gaj":MAILTO:info@shootingrange-gaj.eu
END:VEVENT
BEGIN:VEVENT
DTSTART;VALUE=DATE:20170930
DTEND;VALUE=DATE:20171001
DTSTAMP:20260425T133415
CREATED:20170611T133304Z
LAST-MODIFIED:20170611T133711Z
UID:96-1506729600-1506815999@shootingrange-gaj.eu
SUMMARY:Odprto prvenstvo v parkurju 100 golobov
DESCRIPTION:
URL:https://shootingrange-gaj.eu/event/odprto-prvenstvo-v-parkurju-100-golobov/
LOCATION:Shooting range Gaj\, Travniška ulica 25\, Pragersko\, Slovenska Bistrica\, 2331\, Slovenia
ORGANIZER;CN="Shooting%20range%20Gaj":MAILTO:info@shootingrange-gaj.eu
END:VEVENT
BEGIN:VEVENT
DTSTART;VALUE=DATE:20170916
DTEND;VALUE=DATE:20170917
DTSTAMP:20260425T133415
CREATED:20170611T133227Z
LAST-MODIFIED:20170611T133656Z
UID:94-1505520000-1505606399@shootingrange-gaj.eu
SUMMARY:Odprto prvenstvo LZS v kompak 100 golobov
DESCRIPTION:
URL:https://shootingrange-gaj.eu/event/odprto-prvenstvo-lzs-v-kompak-100-golobov/
LOCATION:Shooting range Gaj\, Travniška ulica 25\, Pragersko\, Slovenska Bistrica\, 2331\, Slovenia
ORGANIZER;CN="Shooting%20range%20Gaj":MAILTO:info@shootingrange-gaj.eu
END:VEVENT
BEGIN:VEVENT
DTSTART;VALUE=DATE:20170901
DTEND;VALUE=DATE:20170903
DTSTAMP:20260425T133415
CREATED:20170611T130926Z
LAST-MODIFIED:20170611T133141Z
UID:79-1504224000-1504396799@shootingrange-gaj.eu
SUMMARY:Državno prvenstvo v kombiniranem streljanju LZS- OPEN
DESCRIPTION:
URL:https://shootingrange-gaj.eu/event/drzavno-prvenstvo-v-kombiniranem-streljanju-lzs-open/
LOCATION:Državno prvenstvo v kombiniranem streljanju LZS- OPEN\, Travniška ulica 25\, Pragersko\, 2331\, Slovenia
ORGANIZER;CN="Shooting%20range%20Gaj":MAILTO:info@shootingrange-gaj.eu
END:VEVENT
BEGIN:VEVENT
DTSTART;VALUE=DATE:20170802
DTEND;VALUE=DATE:20170811
DTSTAMP:20260425T133415
CREATED:20170611T133421Z
LAST-MODIFIED:20170611T133636Z
UID:98-1501632000-1502409599@shootingrange-gaj.eu
SUMMARY:European Championship and World Cup 2017
DESCRIPTION:
URL:https://shootingrange-gaj.eu/event/european-championship-world-cup-2017/
LOCATION:Shooting range Gaj\, Travniška ulica 25\, Pragersko\, Slovenska Bistrica\, 2331\, Slovenia
ORGANIZER;CN="Shooting%20range%20Gaj":MAILTO:info@shootingrange-gaj.eu
END:VEVENT
END:VCALENDAR