BEGIN:VCALENDAR
VERSION:2.0
PRODID:-//Shooting range Gaj - ECPv6.0.8//NONSGML v1.0//EN
CALSCALE:GREGORIAN
METHOD:PUBLISH
X-WR-CALNAME:Shooting range Gaj
X-ORIGINAL-URL:https://shootingrange-gaj.eu
X-WR-CALDESC:Events for Shooting range Gaj
REFRESH-INTERVAL;VALUE=DURATION:PT1H
X-Robots-Tag:noindex
X-PUBLISHED-TTL:PT1H
BEGIN:VTIMEZONE
TZID:UTC
BEGIN:STANDARD
TZOFFSETFROM:+0000
TZOFFSETTO:+0000
TZNAME:UTC
DTSTART:20220101T000000
END:STANDARD
END:VTIMEZONE
BEGIN:VEVENT
DTSTART;VALUE=DATE:20230709
DTEND;VALUE=DATE:20230710
DTSTAMP:20260425T133339
CREATED:20230408T044159Z
LAST-MODIFIED:20230408T044159Z
UID:661-1688860800-1688947199@shootingrange-gaj.eu
SUMMARY:LIGA UNIVERZAL TRAP 2023 4. KROG
DESCRIPTION:LIGA UNIVERZAL TRAP 2023 4. KROG
URL:https://shootingrange-gaj.eu/event/liga-univerzal-trap-2023-4-krog/
END:VEVENT
BEGIN:VEVENT
DTSTART;VALUE=DATE:20230630
DTEND;VALUE=DATE:20230703
DTSTAMP:20260425T133339
CREATED:20230322T202608Z
LAST-MODIFIED:20230322T202608Z
UID:617-1688083200-1688342399@shootingrange-gaj.eu
SUMMARY:15 th EUROPEAN CHAMPIONSHIP
DESCRIPTION:15 th EUROPEAN CHAMPIONSHIP \nCOMBINED GAME SHOOTING
URL:https://shootingrange-gaj.eu/event/15-th-european-championship/
END:VEVENT
BEGIN:VEVENT
DTSTART;VALUE=DATE:20230610
DTEND;VALUE=DATE:20230612
DTSTAMP:20260425T133339
CREATED:20230322T203346Z
LAST-MODIFIED:20230322T203346Z
UID:632-1686355200-1686527999@shootingrange-gaj.eu
SUMMARY:Strelsko društvo Svečina
DESCRIPTION:II. kvalifikacijski turnir z MK orožjem na 50m
URL:https://shootingrange-gaj.eu/event/strelsko-drustvo-svecina-2/
END:VEVENT
BEGIN:VEVENT
DTSTART;VALUE=DATE:20230608
DTEND;VALUE=DATE:20230612
DTSTAMP:20260425T133339
CREATED:20230322T203125Z
LAST-MODIFIED:20230322T203125Z
UID:627-1686182400-1686527999@shootingrange-gaj.eu
SUMMARY:THE 50 th EUROPEAN CHAMPIONSHIP
DESCRIPTION:THE 50 th EUROPEAN CHAMPIONSHIP \nFOSSE UNIVERSELLE – UT
URL:https://shootingrange-gaj.eu/event/the-50-th-european-championship/
END:VEVENT
BEGIN:VEVENT
DTSTART;VALUE=DATE:20230603
DTEND;VALUE=DATE:20230605
DTSTAMP:20260425T133339
CREATED:20230322T202749Z
LAST-MODIFIED:20230322T202749Z
UID:620-1685750400-1685923199@shootingrange-gaj.eu
SUMMARY:GRAND PRIX OF SLOVENIA
DESCRIPTION:GRAND PRIX OF SLOVENIA \nFOSSE UNIVERELLE – UT
URL:https://shootingrange-gaj.eu/event/grand-prix-of-slovenia/
END:VEVENT
BEGIN:VEVENT
DTSTART;VALUE=DATE:20230603
DTEND;VALUE=DATE:20230604
DTSTAMP:20260425T133339
CREATED:20230322T203309Z
LAST-MODIFIED:20230322T203309Z
UID:630-1685750400-1685836799@shootingrange-gaj.eu
SUMMARY:Strelsko društvo Svečina
DESCRIPTION:Regijsko prvenstvo 25m in 50m MK
URL:https://shootingrange-gaj.eu/event/strelsko-drustvo-svecina/
END:VEVENT
BEGIN:VEVENT
DTSTART;VALUE=DATE:20230521
DTEND;VALUE=DATE:20230522
DTSTAMP:20260425T133339
CREATED:20230408T044122Z
LAST-MODIFIED:20230408T044122Z
UID:659-1684627200-1684713599@shootingrange-gaj.eu
SUMMARY:LIGA UNIVERZAL TRAP 2023 3. KROG
DESCRIPTION:LIGA UNIVERZAL TRAP 2023 3. KROG
URL:https://shootingrange-gaj.eu/event/liga-univerzal-trap-2023-3-krog/
END:VEVENT
BEGIN:VEVENT
DTSTART;VALUE=DATE:20230507
DTEND;VALUE=DATE:20230508
DTSTAMP:20260425T133339
CREATED:20230408T044054Z
LAST-MODIFIED:20230408T044328Z
UID:657-1683417600-1683503999@shootingrange-gaj.eu
SUMMARY:LIGA UNIVERZAL TRAP 2023 2. KROG
DESCRIPTION:LIGA UNIVERZAL TRAP 2023 2. KROG
URL:https://shootingrange-gaj.eu/event/liga-univerzal-trap-2023-2-krog/
END:VEVENT
BEGIN:VEVENT
DTSTART;VALUE=DATE:20230421
DTEND;VALUE=DATE:20230422
DTSTAMP:20260425T133339
CREATED:20230325T180602Z
LAST-MODIFIED:20230325T180602Z
UID:645-1682035200-1682121599@shootingrange-gaj.eu
SUMMARY:Pristrelitev lovskega orožja
DESCRIPTION:LD Laporje
URL:https://shootingrange-gaj.eu/event/pristrelitev-lovskega-orozja-2/
END:VEVENT
BEGIN:VEVENT
DTSTART;VALUE=DATE:20230416
DTEND;VALUE=DATE:20230417
DTSTAMP:20260425T133339
CREATED:20230408T044027Z
LAST-MODIFIED:20230408T044027Z
UID:655-1681603200-1681689599@shootingrange-gaj.eu
SUMMARY:LIGA UNIVERZAL TRAP 2023 1. KROG
DESCRIPTION:LIGA UNIVERZAL TRAP 2023 1. KROG
URL:https://shootingrange-gaj.eu/event/liga-univerzal-trap-2023-1-krog/
END:VEVENT
BEGIN:VEVENT
DTSTART;VALUE=DATE:20230416
DTEND;VALUE=DATE:20230417
DTSTAMP:20260425T133339
CREATED:20230329T055715Z
LAST-MODIFIED:20230329T055844Z
UID:647-1681603200-1681689599@shootingrange-gaj.eu
SUMMARY:Usposabljanje za preizkus znanja o ravnanju z orožjem
DESCRIPTION:Usposabljanje za preizkus znanja o ravnanju z orožjem \n  \nPrijave so možne na spletni strani www.svjurij.com
URL:https://shootingrange-gaj.eu/event/usposabljanje-za-preizkus-znanja-o-ravnanju-z-orozjem/
END:VEVENT
BEGIN:VEVENT
DTSTART;VALUE=DATE:20230414
DTEND;VALUE=DATE:20230415
DTSTAMP:20260425T133339
CREATED:20230325T180527Z
LAST-MODIFIED:20230325T180527Z
UID:643-1681430400-1681516799@shootingrange-gaj.eu
SUMMARY:Pristrelitev lovskega orožja
DESCRIPTION:LD Laporje
URL:https://shootingrange-gaj.eu/event/pristrelitev-lovskega-orozja/
END:VEVENT
BEGIN:VEVENT
DTSTART;VALUE=DATE:20230408
DTEND;VALUE=DATE:20230409
DTSTAMP:20260425T133339
CREATED:20230322T203958Z
LAST-MODIFIED:20230322T204018Z
UID:641-1680912000-1680998399@shootingrange-gaj.eu
SUMMARY:Prvenstvo LZ Maribor v veliki kombinaciji
DESCRIPTION:3.kolo
URL:https://shootingrange-gaj.eu/event/prvenstvo-lz-maribor-v-veliki-kombinaciji-3/
END:VEVENT
BEGIN:VEVENT
DTSTART;VALUE=DATE:20230401
DTEND;VALUE=DATE:20230402
DTSTAMP:20260425T133339
CREATED:20230322T203915Z
LAST-MODIFIED:20230322T203932Z
UID:639-1680307200-1680393599@shootingrange-gaj.eu
SUMMARY:Prvenstvo LZ Maribor v veliki kombinaciji
DESCRIPTION:2.kolo
URL:https://shootingrange-gaj.eu/event/prvenstvo-lz-maribor-v-veliki-kombinaciji-2/
END:VEVENT
BEGIN:VEVENT
DTSTART;VALUE=DATE:20230325
DTEND;VALUE=DATE:20230326
DTSTAMP:20260425T133339
CREATED:20230322T203837Z
LAST-MODIFIED:20230322T203837Z
UID:637-1679702400-1679788799@shootingrange-gaj.eu
SUMMARY:Prvenstvo LZ Maribor v veliki kombinaciji
DESCRIPTION:1.kolo
URL:https://shootingrange-gaj.eu/event/prvenstvo-lz-maribor-v-veliki-kombinaciji/
END:VEVENT
BEGIN:VEVENT
DTSTART;VALUE=DATE:20220910
DTEND;VALUE=DATE:20220911
DTSTAMP:20260425T133339
CREATED:20220407T175813Z
LAST-MODIFIED:20220407T180906Z
UID:567-1662768000-1662854399@shootingrange-gaj.eu
SUMMARY:LIGA UNIVERSAL TRAP 2022-FINALS
DESCRIPTION:
URL:https://shootingrange-gaj.eu/event/liga-universal-trap-2022-finals/
LOCATION:Shooting range Gaj\, Travniška ulica 25\, Pragersko\, Slovenska Bistrica\, 2331\, Slovenia
END:VEVENT
BEGIN:VEVENT
DTSTART;VALUE=DATE:20220909
DTEND;VALUE=DATE:20220911
DTSTAMP:20260425T133339
CREATED:20220407T180730Z
LAST-MODIFIED:20220407T180916Z
UID:576-1662681600-1662854399@shootingrange-gaj.eu
SUMMARY:DRŽAVNO PRVENSTVO 50M DISCIPLINE ZA VSE KATEGORIJE
DESCRIPTION:
URL:https://shootingrange-gaj.eu/event/drzavno-prvenstvo-50m-discipline-za-vse-kategorije/
LOCATION:Shooting range Gaj\, Travniška ulica 25\, Pragersko\, Slovenska Bistrica\, 2331\, Slovenia
END:VEVENT
BEGIN:VEVENT
DTSTART;VALUE=DATE:20220903
DTEND;VALUE=DATE:20220904
DTSTAMP:20260425T133339
CREATED:20220407T175021Z
LAST-MODIFIED:20220407T180926Z
UID:555-1662163200-1662249599@shootingrange-gaj.eu
SUMMARY:Državno prvenstvo v kombinacijskem streljanju LZS – OPEN
DESCRIPTION:
URL:https://shootingrange-gaj.eu/event/drzavno-prvenstvo-v-kombinacijskem-streljanju-lzs-open/
LOCATION:Shooting range Gaj\, Travniška ulica 25\, Pragersko\, Slovenska Bistrica\, 2331\, Slovenia
END:VEVENT
BEGIN:VEVENT
DTSTART;VALUE=DATE:20220902
DTEND;VALUE=DATE:20220903
DTSTAMP:20260425T133339
CREATED:20220407T174934Z
LAST-MODIFIED:20220407T180937Z
UID:553-1662076800-1662163199@shootingrange-gaj.eu
SUMMARY:Državno prvenstvo za veterane in super veterane LZS
DESCRIPTION:
URL:https://shootingrange-gaj.eu/event/drzavno-prvenstvo-za-veterane-in-super-veterane-lzs/
LOCATION:Shooting range Gaj\, Travniška ulica 25\, Pragersko\, Slovenska Bistrica\, 2331\, Slovenia
END:VEVENT
BEGIN:VEVENT
DTSTART;VALUE=DATE:20220828
DTEND;VALUE=DATE:20220829
DTSTAMP:20260425T133339
CREATED:20220407T175743Z
LAST-MODIFIED:20220407T180949Z
UID:565-1661644800-1661731199@shootingrange-gaj.eu
SUMMARY:LIGA UNIVERSAL TRAP 2022-5
DESCRIPTION:
URL:https://shootingrange-gaj.eu/event/liga-universal-trap-2022-5/
LOCATION:Shooting range Gaj\, Travniška ulica 25\, Pragersko\, Slovenska Bistrica\, 2331\, Slovenia
END:VEVENT
BEGIN:VEVENT
DTSTART;VALUE=DATE:20220717
DTEND;VALUE=DATE:20220718
DTSTAMP:20260425T133339
CREATED:20220407T175714Z
LAST-MODIFIED:20220407T181004Z
UID:563-1658016000-1658102399@shootingrange-gaj.eu
SUMMARY:LIGA UNIVERSAL TRAP 2022-4
DESCRIPTION:
URL:https://shootingrange-gaj.eu/event/liga-universal-trap-2022-4/
LOCATION:Shooting range Gaj\, Travniška ulica 25\, Pragersko\, Slovenska Bistrica\, 2331\, Slovenia
END:VEVENT
BEGIN:VEVENT
DTSTART;VALUE=DATE:20220625
DTEND;VALUE=DATE:20220626
DTSTAMP:20260425T133339
CREATED:20220407T180536Z
LAST-MODIFIED:20220407T181017Z
UID:574-1656115200-1656201599@shootingrange-gaj.eu
SUMMARY:STRELSKO DRUŠTVO SVEČINA REGIJSKO PRVENSTVO 25M IN 50M
DESCRIPTION:
URL:https://shootingrange-gaj.eu/event/strelsko-drustvo-svecina-regijsko-prvenstvo-25m-in-50m/
LOCATION:Shooting range Gaj\, Travniška ulica 25\, Pragersko\, Slovenska Bistrica\, 2331\, Slovenia
END:VEVENT
BEGIN:VEVENT
DTSTART;TZID=UTC:20220624T080000
DTEND;TZID=UTC:20220626T170000
DTSTAMP:20260425T133339
CREATED:20220407T174450Z
LAST-MODIFIED:20220407T180852Z
UID:545-1656057600-1656262800@shootingrange-gaj.eu
SUMMARY:49th European Championship Finale Beretta European Cup - Universal Trench
DESCRIPTION:
URL:https://shootingrange-gaj.eu/event/49th-european-championship-finale-beretta-european-cup-universal-trench/
LOCATION:Shooting range Gaj\, Travniška ulica 25\, Pragersko\, Slovenska Bistrica\, 2331\, Slovenia
END:VEVENT
BEGIN:VEVENT
DTSTART;VALUE=DATE:20220618
DTEND;VALUE=DATE:20220620
DTSTAMP:20260425T133339
CREATED:20220407T180439Z
LAST-MODIFIED:20220407T181051Z
UID:572-1655510400-1655683199@shootingrange-gaj.eu
SUMMARY:STRELSKO DRUŠTVO SVEČINA II.KVALIFIKACIJSKI TURNIR 50M
DESCRIPTION:
URL:https://shootingrange-gaj.eu/event/strelsko-drustvo-svecina-ii-kvalifikacijski-turnir-50m/
LOCATION:Shooting range Gaj\, Travniška ulica 25\, Pragersko\, Slovenska Bistrica\, 2331\, Slovenia
END:VEVENT
BEGIN:VEVENT
DTSTART;TZID=UTC:20220605T080000
DTEND;TZID=UTC:20220605T170000
DTSTAMP:20260425T133339
CREATED:20220407T175648Z
LAST-MODIFIED:20220407T181110Z
UID:561-1654416000-1654448400@shootingrange-gaj.eu
SUMMARY:LIGA UNIVERSAL TRAP 2022-3
DESCRIPTION:
URL:https://shootingrange-gaj.eu/event/liga-universal-trap-2022-3/
LOCATION:Shooting range Gaj\, Travniška ulica 25\, Pragersko\, Slovenska Bistrica\, 2331\, Slovenia
END:VEVENT
BEGIN:VEVENT
DTSTART;TZID=UTC:20220604T080000
DTEND;TZID=UTC:20220605T170000
DTSTAMP:20260425T133339
CREATED:20220407T174321Z
LAST-MODIFIED:20220407T174321Z
UID:543-1654329600-1654448400@shootingrange-gaj.eu
SUMMARY:Grand Prix of Slovenia - Combined Game shooting
DESCRIPTION:
URL:https://shootingrange-gaj.eu/event/grand-prix-of-slovenia-combined-game-shooting/
END:VEVENT
BEGIN:VEVENT
DTSTART;TZID=UTC:20220528T080000
DTEND;TZID=UTC:20220529T170000
DTSTAMP:20260425T133339
CREATED:20220407T174208Z
LAST-MODIFIED:20220407T174359Z
UID:541-1653724800-1653843600@shootingrange-gaj.eu
SUMMARY:Grand Prix of Slovenia - Universal Trench
DESCRIPTION:
URL:https://shootingrange-gaj.eu/event/grand-prix-of-slovenia-universal-trench/
LOCATION:Shooting range Gaj\, Travniška ulica 25\, Pragersko\, Slovenska Bistrica\, 2331\, Slovenia
END:VEVENT
BEGIN:VEVENT
DTSTART;VALUE=DATE:20220522
DTEND;VALUE=DATE:20220523
DTSTAMP:20260425T133339
CREATED:20220407T175625Z
LAST-MODIFIED:20220407T181425Z
UID:559-1653177600-1653263999@shootingrange-gaj.eu
SUMMARY:LIGA UNIVERSAL TRAP 2022-2
DESCRIPTION:
URL:https://shootingrange-gaj.eu/event/liga-universal-trap-2022-2/
LOCATION:Shooting range Gaj\, Travniška ulica 25\, Pragersko\, Slovenska Bistrica\, 2331\, Slovenia
END:VEVENT
BEGIN:VEVENT
DTSTART;VALUE=DATE:20220522
DTEND;VALUE=DATE:20220523
DTSTAMP:20260425T133339
CREATED:20220407T174808Z
LAST-MODIFIED:20220407T181401Z
UID:551-1653177600-1653263999@shootingrange-gaj.eu
SUMMARY:Izbirna tekma za ekipo LZS v kombinacijskem streljanju
DESCRIPTION:
URL:https://shootingrange-gaj.eu/event/izbirna-tekma-za-ekipo-lzs-v-kombinacijskem-streljanju-3/
LOCATION:Shooting range Gaj\, Travniška ulica 25\, Pragersko\, Slovenska Bistrica\, 2331\, Slovenia
END:VEVENT
BEGIN:VEVENT
DTSTART;VALUE=DATE:20220514
DTEND;VALUE=DATE:20220516
DTSTAMP:20260425T133339
CREATED:20220407T180351Z
LAST-MODIFIED:20220407T181307Z
UID:569-1652486400-1652659199@shootingrange-gaj.eu
SUMMARY:STRELSKO DRUŠTVO SVEČINA I.KVALIFIKACIJSKI TURNIR 50M
DESCRIPTION:
URL:https://shootingrange-gaj.eu/event/strelsko-drustvo-svencina-i-kvalifikacijski-turnir-50m/
LOCATION:Shooting range Gaj\, Travniška ulica 25\, Pragersko\, Slovenska Bistrica\, 2331\, Slovenia
END:VEVENT
END:VCALENDAR