BEGIN:VCALENDAR
VERSION:2.0
PRODID:-//Shooting range Gaj - ECPv6.0.8//NONSGML v1.0//EN
CALSCALE:GREGORIAN
METHOD:PUBLISH
X-WR-CALNAME:Shooting range Gaj
X-ORIGINAL-URL:https://shootingrange-gaj.eu
X-WR-CALDESC:Events for Shooting range Gaj
REFRESH-INTERVAL;VALUE=DURATION:PT1H
X-Robots-Tag:noindex
X-PUBLISHED-TTL:PT1H
BEGIN:VTIMEZONE
TZID:UTC
BEGIN:STANDARD
TZOFFSETFROM:+0000
TZOFFSETTO:+0000
TZNAME:UTC
DTSTART:20230101T000000
END:STANDARD
END:VTIMEZONE
BEGIN:VEVENT
DTSTART;VALUE=DATE:20240921
DTEND;VALUE=DATE:20240922
DTSTAMP:20260425T112143
CREATED:20240412T213116Z
LAST-MODIFIED:20240412T213116Z
UID:808-1726876800-1726963199@shootingrange-gaj.eu
SUMMARY:5.KROG UNIVERZAL TRAP
DESCRIPTION:ODPRTO LIGAŠKO TEKOMOVANJE
URL:https://shootingrange-gaj.eu/event/5-krog-univerzal-trap/
END:VEVENT
BEGIN:VEVENT
DTSTART;VALUE=DATE:20240914
DTEND;VALUE=DATE:20240915
DTSTAMP:20260425T112143
CREATED:20240412T212626Z
LAST-MODIFIED:20240412T212626Z
UID:799-1726272000-1726358399@shootingrange-gaj.eu
SUMMARY:DP LZS Velika kombinacija 2024\, 400 točk
DESCRIPTION:DP LZS Velika kombinacija 2024\, 400 točk
URL:https://shootingrange-gaj.eu/event/dp-lzs-velika-kombinacija-2024-400-tock/
END:VEVENT
BEGIN:VEVENT
DTSTART;VALUE=DATE:20240913
DTEND;VALUE=DATE:20240914
DTSTAMP:20260425T112143
CREATED:20240412T212605Z
LAST-MODIFIED:20240412T212605Z
UID:797-1726185600-1726271999@shootingrange-gaj.eu
SUMMARY:Trening za DP Velika kombinacija
DESCRIPTION:Trening za DP Velika kombinacija
URL:https://shootingrange-gaj.eu/event/trening-za-dp-velika-kombinacija-2/
END:VEVENT
BEGIN:VEVENT
DTSTART;VALUE=DATE:20240831
DTEND;VALUE=DATE:20240902
DTSTAMP:20260425T112143
CREATED:20240412T213823Z
LAST-MODIFIED:20240412T213823Z
UID:816-1725062400-1725235199@shootingrange-gaj.eu
SUMMARY:DRŽAVNO PRVENSTVO 50M DISCIPLINE ZA VSE KATEGORIJE
DESCRIPTION:DRŽAVNO PRVENSTVO 50M DISCIPLINE ZA VSE KATEGORIJE
URL:https://shootingrange-gaj.eu/event/drzavno-prvenstvo-50m-discipline-za-vse-kategorije-2/
END:VEVENT
BEGIN:VEVENT
DTSTART;VALUE=DATE:20240824
DTEND;VALUE=DATE:20240826
DTSTAMP:20260425T112143
CREATED:20240412T213735Z
LAST-MODIFIED:20240412T213735Z
UID:814-1724457600-1724630399@shootingrange-gaj.eu
SUMMARY:III.KVALIFIKACIJSKI TURNIR Z MK OROŽJEM NA 50M
DESCRIPTION:III.KVALIFIKACIJSKI TURNIR Z MK OROŽJEM NA 50M
URL:https://shootingrange-gaj.eu/event/iii-kvalifikacijski-turnir-z-mk-orozjem-na-50m/
END:VEVENT
BEGIN:VEVENT
DTSTART;VALUE=DATE:20240811
DTEND;VALUE=DATE:20240812
DTSTAMP:20260425T112143
CREATED:20240412T213051Z
LAST-MODIFIED:20240412T213051Z
UID:806-1723334400-1723420799@shootingrange-gaj.eu
SUMMARY:4.KROG UNIVERZAL TRAP
DESCRIPTION:ODPRTO LIGAŠKO TEKMOVANJE
URL:https://shootingrange-gaj.eu/event/4-krog-univerzal-trap/
END:VEVENT
BEGIN:VEVENT
DTSTART;VALUE=DATE:20240714
DTEND;VALUE=DATE:20240715
DTSTAMP:20260425T112143
CREATED:20240412T212953Z
LAST-MODIFIED:20240412T213017Z
UID:803-1720915200-1721001599@shootingrange-gaj.eu
SUMMARY:3.KROG UNIVERZAL TRAP
DESCRIPTION:ODPRTO LIGAŠKO TEKMOVANJE
URL:https://shootingrange-gaj.eu/event/3-krog-univerzal-trap/
END:VEVENT
BEGIN:VEVENT
DTSTART;VALUE=DATE:20240630
DTEND;VALUE=DATE:20240701
DTSTAMP:20260425T112143
CREATED:20240412T212537Z
LAST-MODIFIED:20240412T212537Z
UID:795-1719705600-1719791999@shootingrange-gaj.eu
SUMMARY:Trening za DP Velika kombinacija
DESCRIPTION:Trening za DP Velika kombinacija\n\n\n\n\n\n\nštartnina 30\,00
URL:https://shootingrange-gaj.eu/event/trening-za-dp-velika-kombinacija/
END:VEVENT
BEGIN:VEVENT
DTSTART;VALUE=DATE:20240629
DTEND;VALUE=DATE:20240701
DTSTAMP:20260425T112143
CREATED:20240412T213624Z
LAST-MODIFIED:20240412T213624Z
UID:812-1719619200-1719791999@shootingrange-gaj.eu
SUMMARY:REGIJSKO PRVENSTVO NA 25M IN 50M (MK)
DESCRIPTION:REGIJSKO PRVENSTVO NA 25M IN 50M (MK)
URL:https://shootingrange-gaj.eu/event/regijsko-prvenstvo-na-25m-in-50m-mk/
END:VEVENT
BEGIN:VEVENT
DTSTART;VALUE=DATE:20240622
DTEND;VALUE=DATE:20240624
DTSTAMP:20260425T112143
CREATED:20240412T213525Z
LAST-MODIFIED:20240412T213525Z
UID:810-1719014400-1719187199@shootingrange-gaj.eu
SUMMARY:II. KVALIFIKACIJSKI TURNIR Z MK OROŽJEM NA 50M
DESCRIPTION:II. KVALIFIKACIJSKI TURNIR Z MK OROŽJEM NA 50M
URL:https://shootingrange-gaj.eu/event/ii-kvalifikacijski-turnir-z-mk-orozjem-na-50m/
END:VEVENT
BEGIN:VEVENT
DTSTART;VALUE=DATE:20240609
DTEND;VALUE=DATE:20240610
DTSTAMP:20260425T112143
CREATED:20240412T212511Z
LAST-MODIFIED:20240412T212511Z
UID:793-1717891200-1717977599@shootingrange-gaj.eu
SUMMARY:Izbirna za SP Compak\, 100 golobov
DESCRIPTION:Izbirna za SP Compak\, 100 golobov\n\n\n\n\n\n\nštartnina 30\,00
URL:https://shootingrange-gaj.eu/event/izbirna-za-sp-compak-100-golobov-3/
END:VEVENT
BEGIN:VEVENT
DTSTART;VALUE=DATE:20240602
DTEND;VALUE=DATE:20240603
DTSTAMP:20260425T112143
CREATED:20240412T212445Z
LAST-MODIFIED:20240412T212445Z
UID:791-1717286400-1717372799@shootingrange-gaj.eu
SUMMARY:Izbirna za SP Compak\, 100 golobov
DESCRIPTION:Izbirna za SP Compak\, 100 golobov\n\n\n\n\n\n\nštartnina 30\,00
URL:https://shootingrange-gaj.eu/event/izbirna-za-sp-compak-100-golobov-2/
END:VEVENT
BEGIN:VEVENT
DTSTART;VALUE=DATE:20240518
DTEND;VALUE=DATE:20240519
DTSTAMP:20260425T112143
CREATED:20240412T212411Z
LAST-MODIFIED:20240412T212411Z
UID:789-1715990400-1716076799@shootingrange-gaj.eu
SUMMARY:Odprvto prvenstvo v Veliki kombinaciji LZS\, 400 točk
DESCRIPTION:Odprvto prvenstvo v Veliki kombinaciji LZS\, 400 točk \n\n\n\nštartnina 30\,00
URL:https://shootingrange-gaj.eu/event/odprvto-prvenstvo-v-veliki-kombinaciji-lzs-400-tock/
END:VEVENT
BEGIN:VEVENT
DTSTART;VALUE=DATE:20240512
DTEND;VALUE=DATE:20240513
DTSTAMP:20260425T112143
CREATED:20240412T212254Z
LAST-MODIFIED:20240412T212336Z
UID:786-1715472000-1715558399@shootingrange-gaj.eu
SUMMARY:Izbirna za SP Compak\, 100 golobov
DESCRIPTION:Izbirna za SP Compak\, 100 golobov\n\n\n\n\n\n\nštartnina 30\,00
URL:https://shootingrange-gaj.eu/event/izbirna-za-sp-compak-100-golobov/
END:VEVENT
BEGIN:VEVENT
DTSTART;VALUE=DATE:20240414
DTEND;VALUE=DATE:20240415
DTSTAMP:20260425T112143
CREATED:20240412T212926Z
LAST-MODIFIED:20240412T212926Z
UID:801-1713052800-1713139199@shootingrange-gaj.eu
SUMMARY:2.KROG UNIVERZAL TRAP
DESCRIPTION:ODPRTO LIGAŠKO TEKMOVANJE \n 
URL:https://shootingrange-gaj.eu/event/2-krog-univerzal-trap/
END:VEVENT
BEGIN:VEVENT
DTSTART;TZID=UTC:20240309T103000
DTEND;TZID=UTC:20240309T170000
DTSTAMP:20260425T112143
CREATED:20240306T201523Z
LAST-MODIFIED:20240306T202259Z
UID:778-1709980200-1710003600@shootingrange-gaj.eu
SUMMARY:Last minute! Prva tekma sezone
DESCRIPTION:  \nLast minute razpisujemo otvoritveno tekmo sezone! Za začetek bomo organizirali tekmo v s pištolo ali revolverjem velikega kalibra na razdalji 25m (1 poskusna serija 5 strelov in 2 seriji po 10 strelov). \nMesta so omejena!\nNa voljo je le 30 prostih mest – prvi pride\, prvi melje!\nPrijavnina je 15€! \nTekma se začne 9. 3. 2024 ob 10:30. Strelci bodite na strelišču 30 minut pred začetkom tekme! \nPrijave sprejemamo na info@shootingrange-gaj.eu!
URL:https://shootingrange-gaj.eu/event/778/
END:VEVENT
BEGIN:VEVENT
DTSTART;VALUE=DATE:20230909
DTEND;VALUE=DATE:20230910
DTSTAMP:20260425T112143
CREATED:20230503T195958Z
LAST-MODIFIED:20230503T195958Z
UID:666-1694217600-1694303999@shootingrange-gaj.eu
SUMMARY:GZ Slovenska Bistrica SREČANJE članic Podravske regije
DESCRIPTION:GZ Slovenska Bistrica SREČANJE članic Podravske regije
URL:https://shootingrange-gaj.eu/event/gz-slovenska-bistrica-srecanje-clanic-podravske-regije/
END:VEVENT
BEGIN:VEVENT
DTSTART;VALUE=DATE:20230820
DTEND;VALUE=DATE:20230821
DTSTAMP:20260425T112143
CREATED:20230408T044224Z
LAST-MODIFIED:20230408T044224Z
UID:663-1692489600-1692575999@shootingrange-gaj.eu
SUMMARY:LIGA UNIVERZAL TRAP 2023 5. KROG
DESCRIPTION:LIGA UNIVERZAL TRAP 2023 5. KROG
URL:https://shootingrange-gaj.eu/event/liga-univerzal-trap-2023-5-krog/
END:VEVENT
BEGIN:VEVENT
DTSTART;VALUE=DATE:20230805
DTEND;VALUE=DATE:20230807
DTSTAMP:20260425T112143
CREATED:20230322T203438Z
LAST-MODIFIED:20230322T203438Z
UID:634-1691193600-1691366399@shootingrange-gaj.eu
SUMMARY:Strelsko društvo Svečina
DESCRIPTION:Državno prvenstvo 50m discipline za vse kategorije MK
URL:https://shootingrange-gaj.eu/event/strelsko-drustvo-svecina-3/
END:VEVENT
BEGIN:VEVENT
DTSTART;VALUE=DATE:20230805
DTEND;VALUE=DATE:20230807
DTSTAMP:20260425T112143
CREATED:20230322T202914Z
LAST-MODIFIED:20230322T202948Z
UID:623-1691193600-1691366399@shootingrange-gaj.eu
SUMMARY:GRAND PRIX OF SLOVENIA
DESCRIPTION:GRAND PRIX OF SLOVENIA \nCOMPAK SPORTING
URL:https://shootingrange-gaj.eu/event/grand-prix-of-slovenia-2/
END:VEVENT
BEGIN:VEVENT
DTSTART;VALUE=DATE:20230709
DTEND;VALUE=DATE:20230710
DTSTAMP:20260425T112143
CREATED:20230408T044159Z
LAST-MODIFIED:20230408T044159Z
UID:661-1688860800-1688947199@shootingrange-gaj.eu
SUMMARY:LIGA UNIVERZAL TRAP 2023 4. KROG
DESCRIPTION:LIGA UNIVERZAL TRAP 2023 4. KROG
URL:https://shootingrange-gaj.eu/event/liga-univerzal-trap-2023-4-krog/
END:VEVENT
BEGIN:VEVENT
DTSTART;VALUE=DATE:20230630
DTEND;VALUE=DATE:20230703
DTSTAMP:20260425T112143
CREATED:20230322T202608Z
LAST-MODIFIED:20230322T202608Z
UID:617-1688083200-1688342399@shootingrange-gaj.eu
SUMMARY:15 th EUROPEAN CHAMPIONSHIP
DESCRIPTION:15 th EUROPEAN CHAMPIONSHIP \nCOMBINED GAME SHOOTING
URL:https://shootingrange-gaj.eu/event/15-th-european-championship/
END:VEVENT
BEGIN:VEVENT
DTSTART;VALUE=DATE:20230610
DTEND;VALUE=DATE:20230612
DTSTAMP:20260425T112143
CREATED:20230322T203346Z
LAST-MODIFIED:20230322T203346Z
UID:632-1686355200-1686527999@shootingrange-gaj.eu
SUMMARY:Strelsko društvo Svečina
DESCRIPTION:II. kvalifikacijski turnir z MK orožjem na 50m
URL:https://shootingrange-gaj.eu/event/strelsko-drustvo-svecina-2/
END:VEVENT
BEGIN:VEVENT
DTSTART;VALUE=DATE:20230608
DTEND;VALUE=DATE:20230612
DTSTAMP:20260425T112143
CREATED:20230322T203125Z
LAST-MODIFIED:20230322T203125Z
UID:627-1686182400-1686527999@shootingrange-gaj.eu
SUMMARY:THE 50 th EUROPEAN CHAMPIONSHIP
DESCRIPTION:THE 50 th EUROPEAN CHAMPIONSHIP \nFOSSE UNIVERSELLE – UT
URL:https://shootingrange-gaj.eu/event/the-50-th-european-championship/
END:VEVENT
BEGIN:VEVENT
DTSTART;VALUE=DATE:20230603
DTEND;VALUE=DATE:20230605
DTSTAMP:20260425T112143
CREATED:20230322T202749Z
LAST-MODIFIED:20230322T202749Z
UID:620-1685750400-1685923199@shootingrange-gaj.eu
SUMMARY:GRAND PRIX OF SLOVENIA
DESCRIPTION:GRAND PRIX OF SLOVENIA \nFOSSE UNIVERELLE – UT
URL:https://shootingrange-gaj.eu/event/grand-prix-of-slovenia/
END:VEVENT
BEGIN:VEVENT
DTSTART;VALUE=DATE:20230603
DTEND;VALUE=DATE:20230604
DTSTAMP:20260425T112143
CREATED:20230322T203309Z
LAST-MODIFIED:20230322T203309Z
UID:630-1685750400-1685836799@shootingrange-gaj.eu
SUMMARY:Strelsko društvo Svečina
DESCRIPTION:Regijsko prvenstvo 25m in 50m MK
URL:https://shootingrange-gaj.eu/event/strelsko-drustvo-svecina/
END:VEVENT
BEGIN:VEVENT
DTSTART;VALUE=DATE:20230521
DTEND;VALUE=DATE:20230522
DTSTAMP:20260425T112143
CREATED:20230408T044122Z
LAST-MODIFIED:20230408T044122Z
UID:659-1684627200-1684713599@shootingrange-gaj.eu
SUMMARY:LIGA UNIVERZAL TRAP 2023 3. KROG
DESCRIPTION:LIGA UNIVERZAL TRAP 2023 3. KROG
URL:https://shootingrange-gaj.eu/event/liga-univerzal-trap-2023-3-krog/
END:VEVENT
BEGIN:VEVENT
DTSTART;VALUE=DATE:20230507
DTEND;VALUE=DATE:20230508
DTSTAMP:20260425T112143
CREATED:20230408T044054Z
LAST-MODIFIED:20230408T044328Z
UID:657-1683417600-1683503999@shootingrange-gaj.eu
SUMMARY:LIGA UNIVERZAL TRAP 2023 2. KROG
DESCRIPTION:LIGA UNIVERZAL TRAP 2023 2. KROG
URL:https://shootingrange-gaj.eu/event/liga-univerzal-trap-2023-2-krog/
END:VEVENT
BEGIN:VEVENT
DTSTART;VALUE=DATE:20230421
DTEND;VALUE=DATE:20230422
DTSTAMP:20260425T112143
CREATED:20230325T180602Z
LAST-MODIFIED:20230325T180602Z
UID:645-1682035200-1682121599@shootingrange-gaj.eu
SUMMARY:Pristrelitev lovskega orožja
DESCRIPTION:LD Laporje
URL:https://shootingrange-gaj.eu/event/pristrelitev-lovskega-orozja-2/
END:VEVENT
BEGIN:VEVENT
DTSTART;VALUE=DATE:20230416
DTEND;VALUE=DATE:20230417
DTSTAMP:20260425T112143
CREATED:20230408T044027Z
LAST-MODIFIED:20230408T044027Z
UID:655-1681603200-1681689599@shootingrange-gaj.eu
SUMMARY:LIGA UNIVERZAL TRAP 2023 1. KROG
DESCRIPTION:LIGA UNIVERZAL TRAP 2023 1. KROG
URL:https://shootingrange-gaj.eu/event/liga-univerzal-trap-2023-1-krog/
END:VEVENT
END:VCALENDAR